Workbook

Sheet CAF Fleet waste 
B1: QSE COMPANY ASSESSMENT FORM (Fleet Waste - Quality, Social and Environmental Company assessment process) | P1: ='[1]Corrective action plan_Uganda B'!O1:O3 -> 0
A5: Report number: | E5: Date of assessment: | J5: Reason for Assessment: | M5: Initial Assessment | Q5: Initial Assessment
A6: Assessors name: and signature | Q6: Re-Assessment
M7: OK | N7: NOK | O7: Remark | P7: N/A | Q7: Anniversary Assessment
A8: 1- General information | Q8: Other (specify)
A11: Company name: | Q11: x
A12: Address:
A13: City: | J13: Country:
A14: Tel: | J14: Website:
A15: Year of establishment:
A16: 2- Contact details
A19: Contact name 1: | J19: Function:
A20: Mobile number: | J20: E-mail:
A21: Contact name 2: | J21: Function:
A22: Mobile number: | J22: E-mail:
A23: 3- Activity / Core business
A26: Which waste categories are reused, treated or sorted at the facility (e.g. Oil filters, used tyres, broken wind screens etc)?
A29: Is the facility performing a final treatment operation, or a pre-treatment operation preceding further waste treatment by third parties?
A30: Are any subcontractors appointed by the operator? If yes, who are they? Are these subcontractors regularly monitored?
A31: Experience in supporting Aid Organisations | F31: Yes | H31: Names:
F32: No
A33: Location of recycling sites
A34: Is the treatment of some components sub-contracted to other recyclers? | F34: Yes | H34: If yes, names and location:
F35: No
A36: 4- Company organization
A39: Function | F39: Name | L39: Met during assessment
A40: Managing Director/General Manager
A41: Technical Manager
A42: Production Manager/Factory Manager
A43: Safety Health and Environment Coordinator
A44: Compliance/Ethical Manager
A45: Human Resources Manager
A46: Other
A47: 5- Human resources
A50: Total Employees: | G50: 17
A51: Do the Management and senior staff understand English sufficiently to ensure communication? If no, are measures taken to provide effective communication?
A52: 6- Certifications/Authorization and Documentation
A53: Is this an ISO9001 certified company (date) ? (quality management requirements)
A54: Is this an ISO 45001 certified company (occupational Hazard and Safety) or other certifications in the domain of Health & Safety (BSCI, SEDEX membership, OHSAS 18001)? (date)
A55: Is this an ISO14001 certified company (date) ? (environmental requirements)
...

Sheet Corrective action plan
A1: QSE Corrective Action Plan (Quality, Social and Environmental Company assessment process)
A4: Facility Name: | N4: Report #:
A5: Location: | N5: Assessment Date:
A7: Completed by Assessors | L7: Completed by Factory
A8: Ref. No. | B8: Action Items | J8: Nonconformity (NOK) or Remark? | L8: Corrective Action Proposed | N8: Person Responsible | O8: Timeframe for Implement
A45: Prepared by (Assessor1, Assessor2. …): | E45: Ceasar Erima, Robert Matheka | L45: Completed by (Factory Representative / Date):
A48: Acknowledged by (Factory Representative):
A51: Date: | E51: ………………….. | N51: Date:…………………
A53: Notes:
A54: - Verification method to validate Corrective Action implementation: follow up visit by ICRC assessors.
A55: - Assessors have explained the above non-conforming and remarks findings to the factory representative at the closing meeting. A copy of this Corrective Action Plan should be provided by the ICRC to the factory for reference.
A56: - Non Conformity : A failure or significant deficiency in part of the system, or the lack of implementation of such a part.
A57: - Remark: It is currently conforming but in a way not sufficient. It may, if not improved, result in a nonconforming system, product or service.

Sheet Questions and answers
A1: Used oil | B1: Questions | C1: Answer
A2: ='CAF Fleet waste '!A139 -> 10.9 | B2: Which materials are recovered and which materials are wasted at the end of the re-refinery? | C2: Re-refining final product is “recycled lube oil” for market provided that upgrading base oil happens on site at the final stage of mixing with additives to improve its characteristics. If this stage does not exist, the only recovered product is “base oil” which is the recovered oil from the re-refining process after distillation and bleaching. Base oil usually requires further enhancement before being sold in the market and use in automobiles. Possible byproducts: diesel, gasoline, bitumen Possible wastes: oil saturated clay (only if the re-refinery uses an activated bleaching clay treatment)
A3: ='CAF Fleet waste '!A140 -> 10.10 | B3: What measures do you take to control the emissions? | C3: Ideal answer: Processes like distillation which occur at high temperatures and high pressure should be done under controlled conditions and monitored for potential emissions to air (e.g., heavy metals and volatile organic solids) that can be released under these extreme conditions. Furthermore, if thermal energy is to be produced on site to feed the distillation unit, flue gas treatment for the incinerator should exist. Components of the flue gas treatment system can vary according to the type of fuel used.
A4: ='CAF Fleet waste '!A142 -> 10.12 | B4: What source of energy do you use for your recycling process? | C4: Renewable energies (highly preferred), natural gas (preferred), light fuel oil (less preferred), and coal (least preferred). As for electricity, if taken from the grid, choosing the electricity that is certified to be renewable, where possible. As for the thermal energy, which is usually produced by the facility internally, cleaner sources like natural gas are preferred.
A5: ='CAF Fleet waste '!A144 -> 10.14 | B5: How do you transport used oil? | C5: Ideal answer: Train, where railway is accessible. Sealed tanker trucks, for road transport.
A6: ='CAF Fleet waste '!A137 -> 10.7 | B6: What do you do in case of oil spillage? (This question applies to ICRC staff too, if they store any used oil) | C6: Handle the spilled oil as a hazardous waste. Oil leaks and spills must be dealt with it immediately as it could cause a serious pollution. If you can safely stop the flow of oil do. Put a bucket under the leak and close valves or taps. Use leak sealing putty from your leakage prevention kit to cover the leaking area, wear rubber or vinyl gloves to protect your skin. For plastic tanks you may be able to temporarily stop the leak by rubbing a bar of soft soap across the leak.
C7: Use the contents of leakage prevention kit or sandbags to absorb the spilled oil if it’s on a hard surface and stop it entering a river, stream, drains or soaking into the ground. Never wash any spilled oil away into drains or into the ground as most drains connect to watercourse. Never use detergents to clean up spilled oil as it could cause a worse pollution incident. The detergent itself is a pollutant and mixes oil into the water.
C8: If the oil has soaked into the soil or ground, you’ll need to act quickly to prevent it soaking further into the ground and reaching building foundations or groundwater supplies. You’ll need a professional company with training and accreditation to clean up oil that’s soaked into the ground. Removal and disposal of soil contaminated with oil can be very expensive.
A9: ='CAF Fleet waste '!A145 -> 10.15 | B9: What recycling technique do you use? What are the processes involved? | C9: Various techniques can be used. The typical processes are shredding, centrifuge for oil separation, iron and aluminum recovery. Some recycling plants only separate oil from filters and shred the filters. Then, they send the cleaned and shredded filters to another facility for metal recovery. Some recycling plants perform the metal recovery too. Moreover, sometimes heating is used instead of centrifuge to evaporate and re-capture the oil.
A10: ='CAF Fleet waste '!A143 -> 10.13 | B10: What measures do you take to control the emissions from the recycling process? | C10: The recycling facility should be able to capture oil residue in the oil filters. An oil drain collection must be available in the initial depot area and any subsequent storage. Fume control units or flue gas treatment units are essential for any process involving heating.
A11: Used Oil Filters | B11: Questions | C11: Answers
A12: ='CAF Fleet waste '!A146 -> 10.16 | B12: Which materials are recovered and which materials are recovered or wasted at the end of the recycling? | C12: Possible answers: used oil, iron and aluminum scraps, and plastics. Where iron scrap recycling is also done in the same recycling facility, furnace slag is also generated. Used oil must be sent to energy recovery or oil refinery. It shall not be dumped. For metal scraps, the presence of magnetic separator and Eddy Current Separator or similar machines are essential for appropriate recycling. For furnace slags (generated from electric arc furnace if iron scrap recycling is also included), the landfilling should be reduced by reusing the slags in other industries. For plastics and rubber, recycling is preferred over landfilling.
A13: ='CAF Fleet waste '!A142 -> 10.12 | B13: What source of energy do you use for your recycling process? | C13: Possible answers: If iron scrap and aluminum recycling happen in the same recycling plant, the sources of energy can be renewable energies (highly preferred), natural gas (preferred), light fuel oil (less preferred), and coal (least preferred). If metal recycling is done elsewhere, the source of energy for used oil filter recycling would be electricity only.
A14: ='CAF Fleet waste '!A147 -> 10.17 | B14: What is the recovery rate and energy efficiency of your recycling process? | C14: Ideal answer: The higher the better. Where several recycling options are available, the options with higher metal recovery rate (measured in the form of metal scrap per unit mass of used oil filters), more efficient energy consumption (measured in the form of energy consumption per oil filter recycled divided by total energy), and more robust emission control systems should be prioritized.
A15: Acid Lead Batteries | B15: Questions | C15: Answers
A16: ='CAF Fleet waste '!A145 -> 10.15 | B16: What is the recycling technique used? | C16: Possible answers: Majority of lead-acid recyclers use pyrometallurgy technique. It obtains lead and metals via high temperature operation. Another (newer) method is hydrometallurgy, which recovers lead and metals from a solution by using solvents in mild conditions.
A17: ='CAF Fleet waste '!A146 -> 10.16 | B17: Which materials are recovered and which materials are wasted at the end of the recycling? | C17: Possible answers: Plastics such as PP, PE, and PVC (ideally, should be sent to another plastic recycling plant), battery paste and lead grids (should be used in recycling processes such as smelting), the acid solution (should be neutralized using slaked lime giving out water and calcium salt), smelting residues (must go to recycling plant, must not be disposed). Recycling facilities with refining slag recircuiting should be prioritized.
A18: ='CAF Fleet waste '!A140 -> 10.10 | B18: What measures do you take to control the emissions? | C18: Ideal answer: The environmental control of “smelting” and “refining” processes is critical because these are the most impacting processes. Separate control systems are needed for each process. The systems must have scrubbers and flue gas treatment with bag filters or similar dust collecting unit. The bag filters are cleaned periodically, and the dust collected is ideally fed back to the smelters to recover any remaining lead.
A19: ='CAF Fleet waste '!A142 -> 10.12 | B19: What source of energy do you use for your recycling process? | C19: Possible answers: Renewable energies (highly preferred), natural gas (preferred), light fuel oil (less preferred), and coal (least preferred).
A20: ='CAF Fleet waste '!A147 -> 10.17 | B20: What is the lead recovery rate of your recycling process? | C20: Ideal answer: The higher, the better, ideally more than 90%. Recyclers with higher lead recovery rate (measured in the form of recovered lead per unit mass of used batteries) should be prioritized.
A21: ='CAF Fleet waste '!A137 -> 10.7 | B21: What do you do if the acid from the battery spills or leaks? (This question applies to ICRC staff too, if they store any used lead-acid batteries) | C21: Ideal answer: Handle the spilled acid as a hazardous waste because it is corrosive and contains toxic levels of lead. Report all spills that overflow or escape from the storage area to your line manager. Neutralize the acid using cement, lime, or other caustic. Use very dilute lime or caustic since violent reactions can occur. Litmus paper can be used to determine if the acid is neutralized. You may discharge neutralized solutions to the sewer system only if the system connects with the local sewage treatment plant. If a sewer system is not available, the material must be collected and disposed of as hazardous waste. Do not put acid solutions into septic systems or storm sewers. Small quantities of neutralized solids that contain no free liquids may be trashed or taken to a sanitary landfill.
A22: AC Refrigerant | B22: Questions | C22: Answers
A23: ='CAF Fleet waste '!A146 -> 10.16 | B23: How do you manage empty R134a containers? | C23: Possible answers: Capturing the gas and recycling the metal and plastic (most preferred), capturing the gas and disposing metal and plastic (less preferred), disposing the container with the rest of waste (must be avoided).
A24: ='CAF Fleet waste '!A148 -> 10.18 | B24: What percentage of the gas leaks during the capture process? | C24: Ideal answers: ideally zero. Leakage of even small amounts is hazardous and has significant environmental impact.
A25: Used Tires | B25: Questions | C25: Answers
A26: 10.10 | B26: For incineration and energy recovery from used tires, what measures do you take to control the emissions? | C26: Ideal answer: The environmental control of incineration process is critical. The fume controls and chimneys must have scrubbers and flue gas treatment with bag filters as well as activated carbon. Using activated carbon is important as the incineration of rubber produces dioxin, which can be removed by the addition of activated carbon. All filters and scrubbers should be cleaned periodically.
A27: ='CAF Fleet waste '!A141 -> 10.11 | B27: What measures do you take for storage of used tires or shredded tires? | C27: Ideal answer: Any storage of used tires or shredded tires must account for fire risk. Fire extinguishers and fire alarms must be present. Distance must be kept between tire storage areas and working areas.
A28: Used Glass | B28: Questions | C28: Answers
A29: ='CAF Fleet waste '!A140 -> 10.10 | B29: - For glass recycling, what measures do you take to control the emissions? | C29: Ideal answer: The fume controls and chimneys must be equipped with flue gas abatement line and chimney control.
