Workbook

Sheet CAF Fleet waste 
B1: QSE COMPANY ASSESSMENT FORM (Fleet Waste - Quality, Social and Environmental Company assessment process) | P1: ='[1]Corrective action plan_Uganda B'!O1:O3 -> 0
A5: Report number: | E5: Date of assessment: | J5: Reason for Assessment: | M5: Initial Assessment | Q5: Initial Assessment
A6: Assessors name: and signature | Q6: Re-Assessment
M7: OK | N7: NOK | O7: Remark | P7: N/A | Q7: Anniversary Assessment
A8: 1- General information | Q8: Other (specify)
A11: Company name: | Q11: x
A12: Address:
A13: City: | J13: Country:
A14: Tel: | J14: Website:
A15: Year of establishment:
A16: 2- Contact details
A19: Contact name 1: | J19: Function:
A20: Mobile number: | J20: E-mail:
A21: Contact name 2: | J21: Function:
A22: Mobile number: | J22: E-mail:
A23: 3- Activity / Core business
A26: Which waste categories are reused, treated or sorted at the facility (e.g. Oil filters, used tyres, broken wind screens etc)?
A29: Is the facility performing a final treatment operation, or a pre-treatment operation preceding further waste treatment by third parties?
A30: Are any subcontractors appointed by the operator? If yes, who are they? Are these subcontractors regularly monitored?
A31: Experience in supporting Aid Organisations | F31: Yes | H31: Names:
F32: No
A33: Location of recycling sites
A34: Is the treatment of some components sub-contracted to other recyclers? | F34: Yes | H34: If yes, names and location:
F35: No
A36: 4- Company organization
A39: Function | F39: Name | L39: Met during assessment
A40: Managing Director/General Manager
A41: Technical Manager
A42: Production Manager/Factory Manager
A43: Safety Health and Environment Coordinator
A44: Compliance/Ethical Manager
A45: Human Resources Manager
A46: Other
A47: 5- Human resources
A50: Total Employees: | G50: 17
A51: Do the Management and senior staff understand English sufficiently to ensure communication? If no, are measures taken to provide effective communication?
A52: 6- Certifications/Authorization and Documentation
A53: Is this an ISO9001 certified company (date) ? (quality management requirements)
A54: Is this an ISO 45001 certified company (occupational Hazard and Safety) or other certifications in the domain of Health & Safety (BSCI, SEDEX membership, OHSAS 18001)? (date)
A55: Is this an ISO14001 certified company (date) ? (environmental requirements)
A56: Does the factory hold any other certifications ? If so, please list. ISO 17025: 2017
A57: Does factory have all relevant international or national licences related to its business?
A58: Has the factory been audited (on 3 domains: Q, S and E) by other Customers? (Names, dates and audit findings)
A59: What documentation will the company provide as proof of processing (e.g., receiving report, certificate of destruction, tracking document, weigh bridge note, other)?
A60: 7- Production and infrastructure information
A63: Location of infrastructure, number of manufacturing units
A65: Total surface, total surface of built area (indicate surface for raw material space, production area and finished goods)
... A75: 8.1 - Facilities
A76: 8.1.1 | B76: Are floors, walls, ceilings, windows and screens properly maintained and cleaned? Pay specific attention to dust here: exposure to heavy metals for workers in the recycling industry often comes from breathing dust. | Q76: =IF(O76="NOK",0,IF(O76="N/A",0,R76)) -> 1 | R76: 1
A77: 8.1.2 | B77: Is there a cleaning schedule plan and records? | Q77: =IF(O77="NOK",0,IF(O77="N/A",0,R77)) -> 1 | R77: 1
A78: 8.1.3 | B78: Does the plant have adequate shipping, receiving, and loading dock areas? | Q78: =IF(O78="NOK",0,IF(O78="N/A",0,R78)) -> 1 | R78: 1
A79: 8.1.4 | B79: Does the factory have suitable warehouse facilities? | Q79: =IF(O79="NOK",0,IF(O79="N/A",0,R79)) -> 1 | R79: 1
A80: 8.1.5 | B80: Is there a system of floor marking to separate the different sections of the factory? | Q80: =IF(O80="NOK",0,IF(O80="N/A",0,R80)) -> 1 | R80: 1
A81: 8.1.6 | B81: Is most of the sorting and processing performed with machines / automated? | Q81: =IF(O81="NOK",0,IF(O81="N/A",0,R81)) -> 1 | R81: 1
A82: 8.2 Operating / work rules
A83: 8.2.1 | B83: Are operating rules in place (e.g. available as hard copy)? | Q83: =IF(O83="NOK",0,IF(O83="N/A",0,R83)) -> 1 | R83: 1
A84: 8.2.2 | B84: Are procedures / instructions on how to behave in case of a hazardous situation included? | Q84: =IF(O84="NOK",0,IF(O84="N/A",0,R84)) -> 1 | R84: 1
A85: 8.2.3 | B85: Are all relevant provisions included (e.g. operating instructions according to safety rules for handling of certain types of wastes)? | Q85: =IF(O85="NOK",0,IF(O85="N/A",0,R85)) -> 1 | R85: 1
A86: 8.2.4 | B86: Are important passages of the operating rules posted on relevant facility premises in visible places (safety information, warnings)? | Q86: =IF(O86="NOK",0,IF(O86="N/A",0,R86)) -> 1 | R86: 1
A87: 8.3 Instruction handbook / manual
A88: 8.3.1 | B88: Is an instruction handbook/manual in place, readily available in the facility premises (e.g. available as hard copy)? | Q88: =IF(O88="NOK",0,IF(O88="N/A",0,R88)) -> 1 | R88: 1
A89: 8.3.2 | B89: Are all necessary measures for standard operation, maintenance, disruption of operation, proper handling / discarding of fleet waste as well as occupational safety at the workplace defined? | Q89: =IF(O89="NOK",0,IF(O89="N/A",0,R89)) -> 1 | R89: 1
A90: 8.3.3 | B90: Are the roles / responsibilities of the staff defined? | Q90: =IF(O90="NOK",0,IF(O90="N/A",0,R90)) -> 1 | R90: 1
A91: 8.3.4 | B91: Are inspection and maintenance procedures defined? | Q91: =IF(O91="NOK",0,IF(O91="N/A",0,R91)) -> 1 | R91: 1
A92: 8.3.5 | B92: Are operating procedures for safety and environmental protection-related activities compiled? | Q92: =IF(O92="NOK",0,IF(O92="N/A",0,R92)) -> 1 | R92: 1
A93: 8.3.6 | B93: Does the instruction manual include provisions on registration obligations and on waste identification? | Q93: =IF(O93="NOK",0,IF(O93="N/A",0,R93)) -> 1 | R93: 1
A94: 8.4 Operations diary
A95: 8.4.1 | B95: Are records kept for all incoming Fleet waste and for the related quantities of waste? | Q95: =IF(O95="NOK",0,IF(O95="N/A",0,R95)) -> 1 | R95: 1
A96: 8.4.2 | B96: Are electronic or hard copies of documents and records available for at least three years? | Q96: =IF(O96="NOK",0,IF(O96="N/A",0,R96)) -> 1 | R96: 1
A97: 8.4.3 | B97: Are subcontractors, appointed to recover / dispose fleet waste, components and/or materials, appropriately documented? | Q97: =IF(O97="NOK",0,IF(O97="N/A",0,R97)) -> 1 | R97: 1
A98: 8.5 Removal, disassembly and separation
A99: 8.5.1 | B99: Is it ensured that fleet waste is not crushed, compacted or damage prior to treatment? | Q99: =IF(O99="NOK",0,IF(O99="N/A",0,R99)) -> 1 | R99: 1
A100: 8.5.2 | B100: Are, as a minimum, all fluids removed (e.g. AC coolant, oil )? | Q100: =IF(O100="NOK",0,IF(O100="N/A",0,R100)) -> 1 | R100: 1
A101: 8.5.3 | B101: To what extent is the dismantling process manual/automated? | Q101: =IF(O101="NOK",0,IF(O101="N/A",0,R101)) -> 1 | R101: 1
A102: 8.5.4 | B102: Are persons involved in equipment dismantling trained in occupational health and safety (e.g. training records)? | Q102: =IF(O102="NOK",0,IF(O102="N/A",0,R102)) -> 1 | R102: 1
A103: 8.5.5 | B103: Are thereby all relevant occupational health and safety requirements fulfilled? | Q103: =IF(O103="NOK",0,IF(O103="N/A",0,R103)) -> 1 | R103: 1
A104: 8.5.6 | B104: Are the equipment components sorted into various material streams, e.g., steel, aluminium, rubber, plastics? | Q104: =IF(O104="NOK",0,IF(O104="N/A",0,R104)) -> 1 | R104: 1
A105: 9- Social compliance
A108: 9.1 - LABOR AND DEONTOLOGICAL PRACTICES
A109: 9.1.1 | B109: No children found on site during the visit? | Q109: =IF(O109="NOK",0,IF(O109="N/A",0,R109)) -> 1 | R109: 1
A110: 9.1.2 | B110: Do workers have access to drinkable water in production area? | Q110: =IF(O110="NOK",0,IF(O110="N/A",0,R110)) -> 1 | R110: 1
A111: 9.1.3 | B111: Do workers have access to clean and sufficient washroom? | Q111: =IF(O111="NOK",0,IF(O111="N/A",0,R111)) -> 1 | R111: 1
A112: 9.1.4 | B112: Do workers have access to clean canteen / kitchen / staffroom? | Q112: =IF(O112="NOK",0,IF(O112="N/A",0,R112)) -> 1 | R112: 1
A113: 9.2 - HEALTH AND SAFETY
A114: 9.2.1 | B114: Are there Personal Protection Equipment (PPE) available to workers? (protection shoes, gloves, mask, earplugs, glasses, gown etc...) | Q114: =IF(O114="NOK",0,IF(O114="N/A",0,R114)) -> 1 | R114: 1
A115: 9.2.2 | B115: Are there sufficient extinguisher, fire hoses available (at least one in each section of the premises), accessible and functioning + trained people? | Q115: =IF(O115="NOK",0,IF(O115="N/A",0,R115)) -> 1 | R115: 1
A116: 9.2.3 | B116: Are there proportioned and accessible emergency exits in the facility (at least one in each section of the premises), escape route clearly marked and not blocked, sign visible, and employees trained regularly? | Q116: =IF(O116="NOK",0,IF(O116="N/A",0,R116)) -> 1 | R116: 1
A117: 9.2.4 | B117: Is there health and safety incident reporting register in place? | Q117: =IF(O117="NOK",0,IF(O117="N/A",0,R117)) -> 1 | R117: 1
A118: 9.2.5 | B118: Are there sufficient emergency first aid kits easily available on production area (at least one per production section), accessible and complete + trained people? | Q118: =IF(O118="NOK",0,IF(O118="N/A",0,R118)) -> 1 | R118: 1
A119: 9.3 - HARDSHIP WORKING CONDITION
A120: 9.3.1 | B120: Are the moving part of the machines secured? (delimited area, protective measure: metal cage, fence…) | Q120: =IF(O120="NOK",0,IF(O120="N/A",0,R120)) -> 1 | R120: 1
A121: 9.3.2 | B121: Do machines used by workers contain a safety system ? ("Stop" Button…). Please request workers to action the bottom to check if operational. | Q121: =IF(O121="NOK",0,IF(O121="N/A",0,R121)) -> 1 | R121: 1
A122: 9.3.3 | B122: Is the exposure to dust, smoke, vibration, heat, noise reduced by prevention measures? (ex. Ventilation system) | Q122: =IF(O122="NOK",0,IF(O122="N/A",0,R122)) -> 1 | R122: 1
A123: 9.3.4 | B123: Are there measures taken to reduce employees exposition to risk of electrocution? (uncovered cables, breaker box opened…) | Q123: =IF(O123="NOK",0,IF(O123="N/A",0,R123)) -> 1 | R123: 1
A124: 9.3.5 | B124: Workplace environment is free from hazards, with appropriate lighting, ergonomics workstation, not congested? | Q124: =IF(O124="NOK",0,IF(O124="N/A",0,R124)) -> 1 | R124: 1
A125: 9.3.6 | B125: Hazardous substances and chemicals are handled, stored and disposed to reduce employees exposition ? | Q125: =IF(O125="NOK",0,IF(O125="N/A",0,R125)) -> 1 | R125: 1
A126: 9.3.7 | B126: Are there tools to facilitate material handling and transport within the factory ? | Q126: =IF(O126="NOK",0,IF(O126="N/A",0,R126)) -> 1 | R126: 1
A127: 9.3.8 | B127: Are there measures taken to reduce employees exposition other risk factors ? (risk due to falling objects, obstacles on the ground etc.) | Q127: =IF(O127="NOK",0,IF(O127="N/A",0,R127)) -> 1 | R127: 1
A128: 10- Environmental concern
A131: 10.1 | B131: Does the company have an environmental policy? (evidences of waste management; garbage collection, energy management, water conservation, Environmental policy at the reception, invoices) | Q131: =IF(O131="NOK",0,IF(O131="N/A",0,R131)) -> 1 | R131: 1
...

Sheet Corrective action plan
A1: QSE Corrective Action Plan (Quality, Social and Environmental Company assessment process)
A4: Facility Name: | N4: Report #:
A5: Location: | N5: Assessment Date:
A7: Completed by Assessors | L7: Completed by Factory
A8: Ref. No. | B8: Action Items | J8: Nonconformity (NOK) or Remark? | L8: Corrective Action Proposed | N8: Person Responsible | O8: Timeframe for Implement
A45: Prepared by (Assessor1, Assessor2. …): | E45: Ceasar Erima, Robert Matheka | L45: Completed by (Factory Representative / Date):
A48: Acknowledged by (Factory Representative):
A51: Date: | E51: ………………….. | N51: Date:…………………
A53: Notes:
A54: - Verification method to validate Corrective Action implementation: follow up visit by ICRC assessors.
A55: - Assessors have explained the above non-conforming and remarks findings to the factory representative at the closing meeting. A copy of this Corrective Action Plan should be provided by the ICRC to the factory for reference.
A56: - Non Conformity : A failure or significant deficiency in part of the system, or the lack of implementation of such a part.
A57: - Remark: It is currently conforming but in a way not sufficient. It may, if not improved, result in a nonconforming system, product or service.

Sheet Questions and answers
A1: Used oil | B1: Questions | C1: Answer
A2: ='CAF Fleet waste '!A139 -> 10.9 | B2: Which materials are recovered and which materials are wasted at the end of the re-refinery? | C2: Re-refining final product is “recycled lube oil” for market provided that upgrading base oil happens on site at the final stage of mixing with additives to improve its characteristics. If this stage does not exist, the only recovered product is “base oil” which is the recovered oil from the re-refining process after distillation and bleaching. Base oil usually requires further enhancement before being sold in the market and use in automobiles. Possible byproducts: diesel, gasoline, bitumen Possible wastes: oil saturated clay (only if the re-refinery uses an activated bleaching clay treatment)
A3: ='CAF Fleet waste '!A140 -> 10.10 | B3: What measures do you take to control the emissions? | C3: Ideal answer: Processes like distillation which occur at high temperatures and high pressure should be done under controlled conditions and monitored for potential emissions to air (e.g., heavy metals and volatile organic solids) that can be released under these extreme conditions. Furthermore, if thermal energy is to be produced on site to feed the distillation unit, flue gas treatment for the incinerator should exist. Components of the flue gas treatment system can vary according to the type of fuel used.
A4: ='CAF Fleet waste '!A142 -> 10.12 | B4: What source of energy do you use for your recycling process? | C4: Renewable energies (highly preferred), natural gas (preferred), light fuel oil (less preferred), and coal (least preferred). As for electricity, if taken from the grid, choosing the electricity that is certified to be renewable, where possible. As for the thermal energy, which is usually produced by the facility internally, cleaner sources like natural gas are preferred.
A5: ='CAF Fleet waste '!A144 -> 10.14 | B5: How do you transport used oil? | C5: Ideal answer: Train, where railway is accessible. Sealed tanker trucks, for road transport.
A6: ='CAF Fleet waste '!A137 -> 10.7 | B6: What do you do in case of oil spillage? (This question applies to ICRC staff too, if they store any used oil) | C6: Handle the spilled oil as a hazardous waste. Oil leaks and spills must be dealt with it immediately as it could cause a serious pollution. If you can safely stop the flow of oil do. Put a bucket under the leak and close valves or taps. Use leak sealing putty from your leakage prevention kit to cover the leaking area, wear rubber or vinyl gloves to protect your skin. For plastic tanks you may be able to temporarily stop the leak by rubbing a bar of soft soap across the leak.
C7: Use the contents of leakage prevention kit or sandbags to absorb the spilled oil if it’s on a hard surface and stop it entering a river, stream, drains or soaking into the ground. Never wash any spilled oil away into drains or into the ground as most drains connect to watercourse. Never use detergents to clean up spilled oil as it could cause a worse pollution incident. The detergent itself is a pollutant and mixes oil into the water.
C8: If the oil has soaked into the soil or ground, you’ll need to act quickly to prevent it soaking further into the ground and reaching building foundations or groundwater supplies. You’ll need a professional company with training and accreditation to clean up oil that’s soaked into the ground. Removal and disposal of soil contaminated with oil can be very expensive.
A9: ='CAF Fleet waste '!A145 -> 10.15 | B9: What recycling technique do you use? What are the processes involved? | C9: Various techniques can be used. The typical processes are shredding, centrifuge for oil separation, iron and aluminum recovery. Some recycling plants only separate oil from filters and shred the filters. Then, they send the cleaned and shredded filters to another facility for metal recovery. Some recycling plants perform the metal recovery too. Moreover, sometimes heating is used instead of centrifuge to evaporate and re-capture the oil.
A10: ='CAF Fleet waste '!A143 -> 10.13 | B10: What measures do you take to control the emissions from the recycling process? | C10: The recycling facility should be able to capture oil residue in the oil filters. An oil drain collection must be available in the initial depot area and any subsequent storage. Fume control units or flue gas treatment units are essential for any process involving heating.
A11: Used Oil Filters | B11: Questions | C11: Answers
A12: ='CAF Fleet waste '!A146 -> 10.16 | B12: Which materials are recovered and which materials are recovered or wasted at the end of the recycling? | C12: Possible answers: used oil, iron and aluminum scraps, and plastics. Where iron scrap recycling is also done in the same recycling facility, furnace slag is also generated. Used oil must be sent to energy recovery or oil refinery. It shall not be dumped. For metal scraps, the presence of magnetic separator and Eddy Current Separator or similar machines are essential for appropriate recycling. For furnace slags (generated from electric arc furnace if iron scrap recycling is also included), the landfilling should be reduced by reusing the slags in other industries. For plastics and rubber, recycling is preferred over landfilling.
A13: ='CAF Fleet waste '!A142 -> 10.12 | B13: What source of energy do you use for your recycling process? | C13: Possible answers: If iron scrap and aluminum recycling happen in the same recycling plant, the sources of energy can be renewable energies (highly preferred), natural gas (preferred), light fuel oil (less preferred), and coal (least preferred). If metal recycling is done elsewhere, the source of energy for used oil filter recycling would be electricity only.
A14: ='CAF Fleet waste '!A147 -> 10.17 | B14: What is the recovery rate and energy efficiency of your recycling process? | C14: Ideal answer: The higher the better. Where several recycling options are available, the options with higher metal recovery rate (measured in the form of metal scrap per unit mass of used oil filters), more efficient energy consumption (measured in the form of energy consumption per oil filter recycled divided by total energy), and more robust emission control systems should be prioritized.
A15: Acid Lead Batteries | B15: Questions | C15: Answers
A16: ='CAF Fleet waste '!A145 -> 10.15 | B16: What is the recycling technique used? | C16: Possible answers: Majority of lead-acid recyclers use pyrometallurgy technique. It obtains lead and metals via high temperature operation. Another (newer) method is hydrometallurgy, which recovers lead and metals from a solution by using solvents in mild conditions.
A17: ='CAF Fleet waste '!A146 -> 10.16 | B17: Which materials are recovered and which materials are wasted at the end of the recycling? | C17: Possible answers: Plastics such as PP, PE, and PVC (ideally, should be sent to another plastic recycling plant), battery paste and lead grids (should be used in recycling processes such as smelting), the acid solution (should be neutralized using slaked lime giving out water and calcium salt), smelting residues (must go to recycling plant, must not be disposed). Recycling facilities with refining slag recircuiting should be prioritized.
A18: ='CAF Fleet waste '!A140 -> 10.10 | B18: What measures do you take to control the emissions? | C18: Ideal answer: The environmental control of “smelting” and “refining” processes is critical because these are the most impacting processes. Separate control systems are needed for each process. The systems must have scrubbers and flue gas treatment with bag filters or similar dust collecting unit. The bag filters are cleaned periodically, and the dust collected is ideally fed back to the smelters to recover any remaining lead.
A19: ='CAF Fleet waste '!A142 -> 10.12 | B19: What source of energy do you use for your recycling process? | C19: Possible answers: Renewable energies (highly preferred), natural gas (preferred), light fuel oil (less preferred), and coal (least preferred).
A20: ='CAF Fleet waste '!A147 -> 10.17 | B20: What is the lead recovery rate of your recycling process? | C20: Ideal answer: The higher, the better, ideally more than 90%. Recyclers with higher lead recovery rate (measured in the form of recovered lead per unit mass of used batteries) should be prioritized.
A21: ='CAF Fleet waste '!A137 -> 10.7 | B21: What do you do if the acid from the battery spills or leaks? (This question applies to ICRC staff too, if they store any used lead-acid batteries) | C21: Ideal answer: Handle the spilled acid as a hazardous waste because it is corrosive and contains toxic levels of lead. Report all spills that overflow or escape from the storage area to your line manager. Neutralize the acid using cement, lime, or other caustic. Use very dilute lime or caustic since violent reactions can occur. Litmus paper can be used to determine if the acid is neutralized. You may discharge neutralized solutions to the sewer system only if the system connects with the local sewage treatment plant. If a sewer system is not available, the material must be collected and disposed of as hazardous waste. Do not put acid solutions into septic systems or storm sewers. Small quantities of neutralized solids that contain no free liquids may be trashed or taken to a sanitary landfill.
A22: AC Refrigerant | B22: Questions | C22: Answers
A23: ='CAF Fleet waste '!A146 -> 10.16 | B23: How do you manage empty R134a containers? | C23: Possible answers: Capturing the gas and recycling the metal and plastic (most preferred), capturing the gas and disposing metal and plastic (less preferred), disposing the container with the rest of waste (must be avoided).
A24: ='CAF Fleet waste '!A148 -> 10.18 | B24: What percentage of the gas leaks during the capture process? | C24: Ideal answers: ideally zero. Leakage of even small amounts is hazardous and has significant environmental impact.
A25: Used Tires | B25: Questions | C25: Answers
A26: 10.10 | B26: For incineration and energy recovery from used tires, what measures do you take to control the emissions? | C26: Ideal answer: The environmental control of incineration process is critical. The fume controls and chimneys must have scrubbers and flue gas treatment with bag filters as well as activated carbon. Using activated carbon is important as the incineration of rubber produces dioxin, which can be removed by the addition of activated carbon. All filters and scrubbers should be cleaned periodically.
A27: ='CAF Fleet waste '!A141 -> 10.11 | B27: What measures do you take for storage of used tires or shredded tires? | C27: Ideal answer: Any storage of used tires or shredded tires must account for fire risk. Fire extinguishers and fire alarms must be present. Distance must be kept between tire storage areas and working areas.
A28: Used Glass | B28: Questions | C28: Answers
A29: ='CAF Fleet waste '!A140 -> 10.10 | B29: - For glass recycling, what measures do you take to control the emissions? | C29: Ideal answer: The fume controls and chimneys must be equipped with flue gas abatement line and chimney control.
